Package: celldex Version: 1.16.0 Command: /home/biocbuild/bbs-3.20-bioc/R/bin/R CMD build --keep-empty-dirs --no-resave-data celldex StartedAt: 2025-02-20 11:08:08 -0500 (Thu, 20 Feb 2025) EndedAt: 2025-02-20 11:09:03 -0500 (Thu, 20 Feb 2025) EllapsedTime: 54.7 seconds RetCode: 0 Status: OK PackageFile: celldex_1.16.0.tar.gz PackageFileSize: 402.6 <A href="http://en.wikipedia.org/wiki/KiB" target="_blank">KiB</A>