Package: chipenrich.data Version: 2.30.0 Command: /home/biocbuild/bbs-3.20-bioc/R/bin/R CMD build --keep-empty-dirs --no-resave-data chipenrich.data StartedAt: 2025-02-06 11:07:58 -0500 (Thu, 06 Feb 2025) EndedAt: 2025-02-06 11:09:58 -0500 (Thu, 06 Feb 2025) EllapsedTime: 119.2 seconds RetCode: 0 Status: OK PackageFile: chipenrich.data_2.30.0.tar.gz PackageFileSize: 106.3 MiB