Package: chipenrich.data Version: 2.30.0 Command: /home/biocbuild/bbs-3.20-bioc/R/bin/R CMD INSTALL chipenrich.data StartedAt: 2025-02-06 11:01:46 -0500 (Thu, 06 Feb 2025) EndedAt: 2025-02-06 11:03:38 -0500 (Thu, 06 Feb 2025) EllapsedTime: 112.7 seconds RetCode: 0 Status: OK