Package: chromstaRData Version: 1.32.0 Command: /home/biocbuild/bbs-3.20-bioc/R/bin/R CMD INSTALL chromstaRData StartedAt: 2025-02-04 10:55:29 -0500 (Tue, 04 Feb 2025) EndedAt: 2025-02-04 10:55:32 -0500 (Tue, 04 Feb 2025) EllapsedTime: 2.5 seconds RetCode: 0 Status: OK