Package: cnvGSAdata Version: 1.42.0 Command: /home/biocbuild/bbs-3.20-bioc/R/bin/R CMD check --install=check:cnvGSAdata.install-out.txt --library=/home/biocbuild/bbs-3.20-bioc/R/site-library --timings cnvGSAdata_1.42.0.tar.gz StartedAt: 2025-02-06 11:50:32 -0500 (Thu, 06 Feb 2025) EndedAt: 2025-02-06 11:51:27 -0500 (Thu, 06 Feb 2025) EllapsedTime: 54.4 seconds RetCode: 0 Status: WARNINGS CheckDir: cnvGSAdata.Rcheck Warnings: 1