Package: cnvGSAdata Version: 1.42.0 Command: /home/biocbuild/bbs-3.20-bioc/R/bin/R CMD INSTALL cnvGSAdata StartedAt: 2025-02-06 10:58:38 -0500 (Thu, 06 Feb 2025) EndedAt: 2025-02-06 10:58:44 -0500 (Thu, 06 Feb 2025) EllapsedTime: 6.5 seconds RetCode: 0 Status: OK