Package: colonCA Version: 1.48.0 Command: /home/biocbuild/bbs-3.20-bioc/R/bin/R CMD build --keep-empty-dirs --no-resave-data colonCA StartedAt: 2025-02-04 11:09:45 -0500 (Tue, 04 Feb 2025) EndedAt: 2025-02-04 11:09:46 -0500 (Tue, 04 Feb 2025) EllapsedTime: 1.3 seconds RetCode: 0 Status: OK PackageFile: colonCA_1.48.0.tar.gz PackageFileSize: 783.3 KiB