Package: crisprScoreData Version: 1.10.0 Command: /home/biocbuild/bbs-3.20-bioc/R/bin/R CMD build --keep-empty-dirs --no-resave-data crisprScoreData StartedAt: 2025-02-04 11:10:11 -0500 (Tue, 04 Feb 2025) EndedAt: 2025-02-04 11:10:47 -0500 (Tue, 04 Feb 2025) EllapsedTime: 35.6 seconds RetCode: 0 Status: OK PackageFile: crisprScoreData_1.10.0.tar.gz PackageFileSize: 6.089 MiB