Package: crisprScoreData Version: 1.10.0 Command: /home/biocbuild/bbs-3.20-bioc/R/bin/R CMD INSTALL crisprScoreData StartedAt: 2025-02-04 10:57:35 -0500 (Tue, 04 Feb 2025) EndedAt: 2025-02-04 10:57:47 -0500 (Tue, 04 Feb 2025) EllapsedTime: 12.3 seconds RetCode: 0 Status: OK