Package: curatedAdipoChIP Version: 1.22.0 Command: /home/biocbuild/bbs-3.20-bioc/R/bin/R CMD build --keep-empty-dirs --no-resave-data curatedAdipoChIP StartedAt: 2025-02-04 11:10:20 -0500 (Tue, 04 Feb 2025) EndedAt: 2025-02-04 11:12:05 -0500 (Tue, 04 Feb 2025) EllapsedTime: 105.0 seconds RetCode: 0 Status: OK PackageFile: curatedAdipoChIP_1.22.0.tar.gz PackageFileSize: 140.8 KiB