Package: curatedAdipoRNA Version: 1.22.0 Command: /home/biocbuild/bbs-3.20-bioc/R/bin/R CMD build --keep-empty-dirs --no-resave-data curatedAdipoRNA StartedAt: 2025-02-06 11:09:59 -0500 (Thu, 06 Feb 2025) EndedAt: 2025-02-06 11:11:21 -0500 (Thu, 06 Feb 2025) EllapsedTime: 81.4 seconds RetCode: 0 Status: OK PackageFile: curatedAdipoRNA_1.22.0.tar.gz PackageFileSize: 5.586 MiB