Package: curatedAdipoRNA Version: 1.22.0 Command: /home/biocbuild/bbs-3.20-bioc/R/bin/R CMD check --install=check:curatedAdipoRNA.install-out.txt --library=/home/biocbuild/bbs-3.20-bioc/R/site-library --timings curatedAdipoRNA_1.22.0.tar.gz StartedAt: 2025-02-06 11:52:20 -0500 (Thu, 06 Feb 2025) EndedAt: 2025-02-06 11:54:32 -0500 (Thu, 06 Feb 2025) EllapsedTime: 132.7 seconds RetCode: 0 Status: WARNINGS CheckDir: curatedAdipoRNA.Rcheck Warnings: 1