Package: curatedAdipoRNA Version: 1.22.0 Command: /home/biocbuild/bbs-3.20-bioc/R/bin/R CMD INSTALL curatedAdipoRNA StartedAt: 2025-02-06 11:02:46 -0500 (Thu, 06 Feb 2025) EndedAt: 2025-02-06 11:03:06 -0500 (Thu, 06 Feb 2025) EllapsedTime: 19.5 seconds RetCode: 0 Status: OK