Package: curatedBladderData Version: 1.42.0 Command: /home/biocbuild/bbs-3.20-bioc/R/bin/R CMD check --install=check:curatedBladderData.install-out.txt --library=/home/biocbuild/bbs-3.20-bioc/R/site-library --timings curatedBladderData_1.42.0.tar.gz StartedAt: 2025-02-04 11:52:19 -0500 (Tue, 04 Feb 2025) EndedAt: 2025-02-04 11:53:23 -0500 (Tue, 04 Feb 2025) EllapsedTime: 63.2 seconds RetCode: 0 Status: OK CheckDir: curatedBladderData.Rcheck Warnings: 0