Package: curatedBreastData Version: 2.34.0 Command: /home/biocbuild/bbs-3.20-bioc/R/bin/R CMD build --keep-empty-dirs --no-resave-data curatedBreastData StartedAt: 2025-02-04 11:10:31 -0500 (Tue, 04 Feb 2025) EndedAt: 2025-02-04 11:12:05 -0500 (Tue, 04 Feb 2025) EllapsedTime: 94.3 seconds RetCode: 0 Status: OK PackageFile: curatedBreastData_2.34.0.tar.gz PackageFileSize: 283.1 MiB