Package: depmap Version: 1.20.0 Command: /home/biocbuild/bbs-3.20-bioc/R/bin/R CMD check --install=check:depmap.install-out.txt --library=/home/biocbuild/bbs-3.20-bioc/R/site-library --timings depmap_1.20.0.tar.gz StartedAt: 2025-02-04 11:54:21 -0500 (Tue, 04 Feb 2025) EndedAt: 2025-02-04 12:04:54 -0500 (Tue, 04 Feb 2025) EllapsedTime: 633.4 seconds RetCode: 0 Status: OK CheckDir: depmap.Rcheck Warnings: 0