Package: diffloopdata Version: 1.34.0 Command: /home/biocbuild/bbs-3.20-bioc/R/bin/R CMD check --install=check:diffloopdata.install-out.txt --library=/home/biocbuild/bbs-3.20-bioc/R/site-library --timings diffloopdata_1.34.0.tar.gz StartedAt: 2025-02-04 11:56:36 -0500 (Tue, 04 Feb 2025) EndedAt: 2025-02-04 11:56:48 -0500 (Tue, 04 Feb 2025) EllapsedTime: 11.6 seconds RetCode: 0 Status: OK CheckDir: diffloopdata.Rcheck Warnings: 0