Package: dressCheck Version: 0.44.0 Command: /home/biocbuild/bbs-3.20-bioc/R/bin/R CMD INSTALL dressCheck StartedAt: 2025-02-04 10:56:13 -0500 (Tue, 04 Feb 2025) EndedAt: 2025-02-04 10:56:23 -0500 (Tue, 04 Feb 2025) EllapsedTime: 10.3 seconds RetCode: 0 Status: OK