Package: easierData Version: 1.12.0 Command: /home/biocbuild/bbs-3.20-bioc/R/bin/R CMD build --keep-empty-dirs --no-resave-data easierData StartedAt: 2025-02-04 11:14:27 -0500 (Tue, 04 Feb 2025) EndedAt: 2025-02-04 11:15:13 -0500 (Tue, 04 Feb 2025) EllapsedTime: 46.2 seconds RetCode: 0 Status: OK PackageFile: easierData_1.12.0.tar.gz PackageFileSize: 408.2 KiB