Package: easierData Version: 1.12.0 Command: /home/biocbuild/bbs-3.20-bioc/R/bin/R CMD INSTALL easierData StartedAt: 2025-02-04 11:05:01 -0500 (Tue, 04 Feb 2025) EndedAt: 2025-02-04 11:05:29 -0500 (Tue, 04 Feb 2025) EllapsedTime: 28.0 seconds RetCode: 0 Status: OK