Package: emtdata Version: 1.14.0 Maintainer: Malvika D. Kharbanda MaintainerEmail: kharbanda.m at wehi.edu.au git_url: https://git.bioconductor.org/packages/emtdata git_branch: RELEASE_3_20 git_last_commit: 8a3ea82 git_last_commit_date: 2024-10-29 09:52:32 -0500 (Tue, 29 Oct 2024)