Package: emtdata Version: 1.14.0 Command: /home/biocbuild/bbs-3.20-bioc/R/bin/R CMD build --keep-empty-dirs --no-resave-data emtdata StartedAt: 2025-02-04 11:14:35 -0500 (Tue, 04 Feb 2025) EndedAt: 2025-02-04 11:15:24 -0500 (Tue, 04 Feb 2025) EllapsedTime: 48.6 seconds RetCode: 0 Status: OK PackageFile: emtdata_1.14.0.tar.gz PackageFileSize: 216.8 KiB