Package: emtdata Version: 1.14.0 Command: /home/biocbuild/bbs-3.20-bioc/R/bin/R CMD INSTALL emtdata StartedAt: 2025-02-04 10:59:28 -0500 (Tue, 04 Feb 2025) EndedAt: 2025-02-04 10:59:39 -0500 (Tue, 04 Feb 2025) EllapsedTime: 10.9 seconds RetCode: 0 Status: OK