Package: eoPredData Version: 1.0.0 Command: /home/biocbuild/bbs-3.20-bioc/R/bin/R CMD build --keep-empty-dirs --no-resave-data eoPredData StartedAt: 2025-02-06 11:14:24 -0500 (Thu, 06 Feb 2025) EndedAt: 2025-02-06 11:14:41 -0500 (Thu, 06 Feb 2025) EllapsedTime: 16.3 seconds RetCode: 0 Status: OK PackageFile: eoPredData_1.0.0.tar.gz PackageFileSize: 292.5 KiB