Package: epimutacionsData Version: 1.10.0 Command: /home/biocbuild/bbs-3.20-bioc/R/bin/R CMD build --keep-empty-dirs --no-resave-data epimutacionsData StartedAt: 2025-02-06 11:14:41 -0500 (Thu, 06 Feb 2025) EndedAt: 2025-02-06 11:15:24 -0500 (Thu, 06 Feb 2025) EllapsedTime: 42.8 seconds RetCode: 0 Status: OK PackageFile: epimutacionsData_1.10.0.tar.gz PackageFileSize: 57.04 MiB