Package: etec16s Version: 1.34.0 Command: /home/biocbuild/bbs-3.20-bioc/R/bin/R CMD check --install=check:etec16s.install-out.txt --library=/home/biocbuild/bbs-3.20-bioc/R/site-library --timings etec16s_1.34.0.tar.gz StartedAt: 2025-02-04 12:00:44 -0500 (Tue, 04 Feb 2025) EndedAt: 2025-02-04 12:01:18 -0500 (Tue, 04 Feb 2025) EllapsedTime: 33.7 seconds RetCode: 0 Status: OK CheckDir: etec16s.Rcheck Warnings: 0