Package: fibroEset Version: 1.48.0 Command: /home/biocbuild/bbs-3.20-bioc/R/bin/R CMD INSTALL fibroEset StartedAt: 2025-02-04 10:56:20 -0500 (Tue, 04 Feb 2025) EndedAt: 2025-02-04 10:56:26 -0500 (Tue, 04 Feb 2025) EllapsedTime: 5.6 seconds RetCode: 0 Status: OK