Package: furrowSeg Version: 1.34.0 Command: /home/biocbuild/bbs-3.20-bioc/R/bin/R CMD check --install=check:furrowSeg.install-out.txt --library=/home/biocbuild/bbs-3.20-bioc/R/site-library --timings furrowSeg_1.34.0.tar.gz StartedAt: 2025-02-04 12:04:43 -0500 (Tue, 04 Feb 2025) EndedAt: 2025-02-04 12:12:04 -0500 (Tue, 04 Feb 2025) EllapsedTime: 440.7 seconds RetCode: 0 Status: WARNINGS CheckDir: furrowSeg.Rcheck Warnings: 1