Package: gageData Version: 2.44.0 Command: /home/biocbuild/bbs-3.20-bioc/R/bin/R CMD build --keep-empty-dirs --no-resave-data gageData StartedAt: 2025-02-04 11:17:39 -0500 (Tue, 04 Feb 2025) EndedAt: 2025-02-04 11:17:43 -0500 (Tue, 04 Feb 2025) EllapsedTime: 4.3 seconds RetCode: 0 Status: OK PackageFile: gageData_2.44.0.tar.gz PackageFileSize: 10.59 MiB