Package: gageData Version: 2.44.0 Command: /home/biocbuild/bbs-3.20-bioc/R/bin/R CMD INSTALL gageData StartedAt: 2025-02-04 10:55:22 -0500 (Tue, 04 Feb 2025) EndedAt: 2025-02-04 10:55:27 -0500 (Tue, 04 Feb 2025) EllapsedTime: 5.3 seconds RetCode: 0 Status: OK