Package: genomationData Version: 1.38.0 Command: /home/biocbuild/bbs-3.20-bioc/R/bin/R CMD check --install=check:genomationData.install-out.txt --library=/home/biocbuild/bbs-3.20-bioc/R/site-library --timings genomationData_1.38.0.tar.gz StartedAt: 2025-02-04 12:06:04 -0500 (Tue, 04 Feb 2025) EndedAt: 2025-02-04 12:06:17 -0500 (Tue, 04 Feb 2025) EllapsedTime: 13.0 seconds RetCode: 0 Status: OK CheckDir: genomationData.Rcheck Warnings: 0