Package: hapmap500knsp Version: 1.48.0 Command: /home/biocbuild/bbs-3.20-bioc/R/bin/R CMD build --keep-empty-dirs --no-resave-data hapmap500knsp StartedAt: 2025-02-04 11:18:56 -0500 (Tue, 04 Feb 2025) EndedAt: 2025-02-04 11:21:35 -0500 (Tue, 04 Feb 2025) EllapsedTime: 159.6 seconds RetCode: 0 Status: OK PackageFile: hapmap500knsp_1.48.0.tar.gz PackageFileSize: 80.39 MiB