Package: hapmap500knsp Version: 1.48.0 Command: /home/biocbuild/bbs-3.20-bioc/R/bin/R CMD check --install=check:hapmap500knsp.install-out.txt --library=/home/biocbuild/bbs-3.20-bioc/R/site-library --timings hapmap500knsp_1.48.0.tar.gz StartedAt: 2025-02-04 12:07:33 -0500 (Tue, 04 Feb 2025) EndedAt: 2025-02-04 12:07:53 -0500 (Tue, 04 Feb 2025) EllapsedTime: 20.3 seconds RetCode: 0 Status: OK CheckDir: hapmap500knsp.Rcheck Warnings: 0