Package: hapmap500ksty Version: 1.48.0 Command: /home/biocbuild/bbs-3.20-bioc/R/bin/R CMD build --keep-empty-dirs --no-resave-data hapmap500ksty StartedAt: 2025-02-04 11:19:06 -0500 (Tue, 04 Feb 2025) EndedAt: 2025-02-04 11:21:41 -0500 (Tue, 04 Feb 2025) EllapsedTime: 154.7 seconds RetCode: 0 Status: OK PackageFile: hapmap500ksty_1.48.0.tar.gz PackageFileSize: 77.63 MiB