Package: hapmap500ksty Version: 1.48.0 Command: /home/biocbuild/bbs-3.20-bioc/R/bin/R CMD INSTALL hapmap500ksty StartedAt: 2025-02-04 10:55:34 -0500 (Tue, 04 Feb 2025) EndedAt: 2025-02-04 10:55:35 -0500 (Tue, 04 Feb 2025) EllapsedTime: 1.5 seconds RetCode: 0 Status: OK