Package: healthyControlsPresenceChecker Version: 1.10.0 Command: /home/biocbuild/bbs-3.20-bioc/R/bin/R CMD build --keep-empty-dirs --no-resave-data healthyControlsPresenceChecker StartedAt: 2025-02-04 11:21:29 -0500 (Tue, 04 Feb 2025) EndedAt: 2025-02-04 11:22:08 -0500 (Tue, 04 Feb 2025) EllapsedTime: 38.6 seconds RetCode: 0 Status: OK PackageFile: healthyControlsPresenceChecker_1.10.0.tar.gz PackageFileSize: 220 KiB