Package: healthyControlsPresenceChecker Version: 1.10.0 Command: /home/biocbuild/bbs-3.20-bioc/R/bin/R CMD check --install=check:healthyControlsPresenceChecker.install-out.txt --library=/home/biocbuild/bbs-3.20-bioc/R/site-library --timings healthyControlsPresenceChecker_1.10.0.tar.gz StartedAt: 2025-02-04 12:09:00 -0500 (Tue, 04 Feb 2025) EndedAt: 2025-02-04 12:12:47 -0500 (Tue, 04 Feb 2025) EllapsedTime: 227.8 seconds RetCode: 0 Status: OK CheckDir: healthyControlsPresenceChecker.Rcheck Warnings: 0