Package: hgu2beta7 Version: 1.46.0 Command: /home/biocbuild/bbs-3.20-bioc/R/bin/R CMD build --keep-empty-dirs --no-resave-data hgu2beta7 StartedAt: 2025-02-04 11:22:00 -0500 (Tue, 04 Feb 2025) EndedAt: 2025-02-04 11:22:01 -0500 (Tue, 04 Feb 2025) EllapsedTime: 1.0 seconds RetCode: 0 Status: OK PackageFile: hgu2beta7_1.46.0.tar.gz PackageFileSize: 6.409 MiB