Package: homosapienDEE2CellScore Version: 1.2.0 Maintainer: Justin Marsh MaintainerEmail: j.marsh at auckland.ac.nz git_url: https://git.bioconductor.org/packages/homosapienDEE2CellScore git_branch: RELEASE_3_20 git_last_commit: a142e9f git_last_commit_date: 2024-10-29 09:55:44 -0500 (Tue, 29 Oct 2024)