Package: homosapienDEE2CellScore Version: 1.2.0 Command: /home/biocbuild/bbs-3.20-bioc/R/bin/R CMD build --keep-empty-dirs --no-resave-data homosapienDEE2CellScore StartedAt: 2025-02-04 11:22:47 -0500 (Tue, 04 Feb 2025) EndedAt: 2025-02-04 11:26:24 -0500 (Tue, 04 Feb 2025) EllapsedTime: 217.1 seconds RetCode: 0 Status: OK PackageFile: homosapienDEE2CellScore_1.2.0.tar.gz PackageFileSize: 256.4 KiB