Package: homosapienDEE2CellScore Version: 1.2.0 Command: /home/biocbuild/bbs-3.20-bioc/R/bin/R CMD check --install=check:homosapienDEE2CellScore.install-out.txt --library=/home/biocbuild/bbs-3.20-bioc/R/site-library --timings homosapienDEE2CellScore_1.2.0.tar.gz StartedAt: 2025-02-04 12:12:01 -0500 (Tue, 04 Feb 2025) EndedAt: 2025-02-04 12:28:22 -0500 (Tue, 04 Feb 2025) EllapsedTime: 981.0 seconds RetCode: 0 Status: OK CheckDir: homosapienDEE2CellScore.Rcheck Warnings: 0