Package: homosapienDEE2CellScore Version: 1.2.0 Command: /home/biocbuild/bbs-3.20-bioc/R/bin/R CMD INSTALL homosapienDEE2CellScore StartedAt: 2025-02-04 11:00:55 -0500 (Tue, 04 Feb 2025) EndedAt: 2025-02-04 11:01:23 -0500 (Tue, 04 Feb 2025) EllapsedTime: 27.9 seconds RetCode: 0 Status: OK