Package: humanStemCell Version: 0.46.0 Command: /home/biocbuild/bbs-3.20-bioc/R/bin/R CMD build --keep-empty-dirs --no-resave-data humanStemCell StartedAt: 2025-02-06 11:23:03 -0500 (Thu, 06 Feb 2025) EndedAt: 2025-02-06 11:24:08 -0500 (Thu, 06 Feb 2025) EllapsedTime: 64.7 seconds RetCode: 0 Status: OK PackageFile: humanStemCell_0.46.0.tar.gz PackageFileSize: 30.64 MiB