Package: humanStemCell Version: 0.46.0 Command: /home/biocbuild/bbs-3.20-bioc/R/bin/R CMD INSTALL humanStemCell StartedAt: 2025-02-06 10:57:25 -0500 (Thu, 06 Feb 2025) EndedAt: 2025-02-06 10:57:34 -0500 (Thu, 06 Feb 2025) EllapsedTime: 8.7 seconds RetCode: 0 Status: OK