Package: kidpack Version: 1.48.0 Command: /home/biocbuild/bbs-3.20-bioc/R/bin/R CMD build --keep-empty-dirs --no-resave-data kidpack StartedAt: 2025-02-04 11:23:50 -0500 (Tue, 04 Feb 2025) EndedAt: 2025-02-04 11:24:02 -0500 (Tue, 04 Feb 2025) EllapsedTime: 12.0 seconds RetCode: 0 Status: OK PackageFile: kidpack_1.48.0.tar.gz PackageFileSize: 18.39 MiB