Package: lumiBarnes Version: 1.46.0 Command: /home/biocbuild/bbs-3.20-bioc/R/bin/R CMD build --keep-empty-dirs --no-resave-data lumiBarnes StartedAt: 2025-02-06 11:25:00 -0500 (Thu, 06 Feb 2025) EndedAt: 2025-02-06 11:25:01 -0500 (Thu, 06 Feb 2025) EllapsedTime: 1.0 seconds RetCode: 0 Status: OK PackageFile: lumiBarnes_1.46.0.tar.gz PackageFileSize: 4.985 MiB