Package: lydata Version: 1.32.0 Command: /home/biocbuild/bbs-3.20-bioc/R/bin/R CMD check --install=check:lydata.install-out.txt --library=/home/biocbuild/bbs-3.20-bioc/R/site-library --timings lydata_1.32.0.tar.gz StartedAt: 2025-02-04 12:16:43 -0500 (Tue, 04 Feb 2025) EndedAt: 2025-02-04 12:17:03 -0500 (Tue, 04 Feb 2025) EllapsedTime: 19.9 seconds RetCode: 0 Status: OK CheckDir: lydata.Rcheck Warnings: 0