Package: mCSEAdata Version: 1.26.1 Command: /home/biocbuild/bbs-3.20-bioc/R/bin/R CMD build --keep-empty-dirs --no-resave-data mCSEAdata StartedAt: 2025-02-04 11:25:43 -0500 (Tue, 04 Feb 2025) EndedAt: 2025-02-04 11:26:59 -0500 (Tue, 04 Feb 2025) EllapsedTime: 75.9 seconds RetCode: 0 Status: OK PackageFile: mCSEAdata_1.26.1.tar.gz PackageFileSize: 15.84 MiB