Package: mCSEAdata Version: 1.26.1 Command: /home/biocbuild/bbs-3.20-bioc/R/bin/R CMD check --install=check:mCSEAdata.install-out.txt --library=/home/biocbuild/bbs-3.20-bioc/R/site-library --timings mCSEAdata_1.26.1.tar.gz StartedAt: 2025-02-04 12:17:23 -0500 (Tue, 04 Feb 2025) EndedAt: 2025-02-04 12:17:54 -0500 (Tue, 04 Feb 2025) EllapsedTime: 31.2 seconds RetCode: 0 Status: OK CheckDir: mCSEAdata.Rcheck Warnings: 0