Package: macrophage Version: 1.22.0 Command: /home/biocbuild/bbs-3.20-bioc/R/bin/R CMD build --keep-empty-dirs --no-resave-data macrophage StartedAt: 2025-02-04 11:25:06 -0500 (Tue, 04 Feb 2025) EndedAt: 2025-02-04 11:25:42 -0500 (Tue, 04 Feb 2025) EllapsedTime: 36.5 seconds RetCode: 0 Status: OK PackageFile: macrophage_1.22.0.tar.gz PackageFileSize: 511.4 MiB